BEGIN:VCALENDAR
VERSION:2.0
PRODID:-//Dorpsraad Swartbroek - ECPv6.15.18//NONSGML v1.0//EN
CALSCALE:GREGORIAN
METHOD:PUBLISH
X-ORIGINAL-URL:https://www.dorpsraad-swartbroek.nl
X-WR-CALDESC:Evenementen voor Dorpsraad Swartbroek
REFRESH-INTERVAL;VALUE=DURATION:PT1H
X-Robots-Tag:noindex
X-PUBLISHED-TTL:PT1H
BEGIN:VTIMEZONE
TZID:Europe/Amsterdam
BEGIN:DAYLIGHT
TZOFFSETFROM:+0100
TZOFFSETTO:+0200
TZNAME:CEST
DTSTART:20240331T010000
END:DAYLIGHT
BEGIN:STANDARD
TZOFFSETFROM:+0200
TZOFFSETTO:+0100
TZNAME:CET
DTSTART:20241027T010000
END:STANDARD
BEGIN:DAYLIGHT
TZOFFSETFROM:+0100
TZOFFSETTO:+0200
TZNAME:CEST
DTSTART:20250330T010000
END:DAYLIGHT
BEGIN:STANDARD
TZOFFSETFROM:+0200
TZOFFSETTO:+0100
TZNAME:CET
DTSTART:20251026T010000
END:STANDARD
BEGIN:DAYLIGHT
TZOFFSETFROM:+0100
TZOFFSETTO:+0200
TZNAME:CEST
DTSTART:20260329T010000
END:DAYLIGHT
BEGIN:STANDARD
TZOFFSETFROM:+0200
TZOFFSETTO:+0100
TZNAME:CET
DTSTART:20261025T010000
END:STANDARD
END:VTIMEZONE
BEGIN:VEVENT
DTSTART;TZID=Europe/Amsterdam:20251108T180000
DTEND;TZID=Europe/Amsterdam:20251108T210000
DTSTAMP:20260421T224110
CREATED:20251031T113606Z
LAST-MODIFIED:20251106T075913Z
UID:10001285-1762624800-1762635600@www.dorpsraad-swartbroek.nl
SUMMARY:Sint Maarten Tocht en Vuur
DESCRIPTION:We gaan Sint Maarten vieren. We gaan dan met de schutterij en Sint Maarten voorop in optocht naar de Sint Maartenshoop aan de Wolfsvenweg. Neem ook je lampion mee! Indien het wat ver lopen is voor de kortere benen is het wellicht handig om een bolderwagen of buggy mee te nemen (terrrein zelf is hier niet voor geschikt). Bij de hoop aangekomen zal Sint Maarten zijn verhaal vertellen en de hoop aansteken. Voor de kinderen is er dan een gratis warme chocomel en een wafel. Volwassen kunnen warme chocomel\, koffie en glühwein kopen\, evenals wafels (per stuk of verpakt).
URL:https://www.dorpsraad-swartbroek.nl/activiteit/sint-maarten-tocht-en-vuur/
LOCATION:Wolfsvenweg\, Wolfsvenweg\, Weert\, Limburg\, 6005NS\, Nederland
CATEGORIES:Culturele Evenementen,Ontspanning
ATTACH;FMTTYPE=image/jpeg:https://www.dorpsraad-swartbroek.nl/wp-content/uploads/2025/09/Dorpsraad-Online-Sint-Maarten-02-S.jpg
END:VEVENT
END:VCALENDAR