BEGIN:VCALENDAR
VERSION:2.0
PRODID:-//Dorpsraad Swartbroek - ECPv6.15.18//NONSGML v1.0//EN
CALSCALE:GREGORIAN
METHOD:PUBLISH
X-ORIGINAL-URL:https://www.dorpsraad-swartbroek.nl
X-WR-CALDESC:Evenementen voor Dorpsraad Swartbroek
REFRESH-INTERVAL;VALUE=DURATION:PT1H
X-Robots-Tag:noindex
X-PUBLISHED-TTL:PT1H
BEGIN:VTIMEZONE
TZID:Europe/Amsterdam
BEGIN:DAYLIGHT
TZOFFSETFROM:+0100
TZOFFSETTO:+0200
TZNAME:CEST
DTSTART:20240331T010000
END:DAYLIGHT
BEGIN:STANDARD
TZOFFSETFROM:+0200
TZOFFSETTO:+0100
TZNAME:CET
DTSTART:20241027T010000
END:STANDARD
BEGIN:DAYLIGHT
TZOFFSETFROM:+0100
TZOFFSETTO:+0200
TZNAME:CEST
DTSTART:20250330T010000
END:DAYLIGHT
BEGIN:STANDARD
TZOFFSETFROM:+0200
TZOFFSETTO:+0100
TZNAME:CET
DTSTART:20251026T010000
END:STANDARD
BEGIN:DAYLIGHT
TZOFFSETFROM:+0100
TZOFFSETTO:+0200
TZNAME:CEST
DTSTART:20260329T010000
END:DAYLIGHT
BEGIN:STANDARD
TZOFFSETFROM:+0200
TZOFFSETTO:+0100
TZNAME:CET
DTSTART:20261025T010000
END:STANDARD
END:VTIMEZONE
BEGIN:VEVENT
DTSTART;TZID=Europe/Amsterdam:20251107T200000
DTEND;TZID=Europe/Amsterdam:20251107T223000
DTSTAMP:20260422T002819
CREATED:20251031T104816Z
LAST-MODIFIED:20251031T111138Z
UID:10001274-1762545600-1762554600@www.dorpsraad-swartbroek.nl
SUMMARY:Kaartavond RKSVV
DESCRIPTION:Ook dit jaar organiseert RKSVV i.s.m. schutterij St.Cornelius weer 10 kaartavonden ( kruisjassen ) op de vrijdagavond die altijd om 20.00uur beginnen. \nEr zijn mooie dagprijzen te winnen en ook zijn er na de 10 kaartavonden eindprijzen te winnen waarvoor de 7 hoogste scores tellen. \nZegt het voort want hoe meer zielen hoe meer vreugde.
URL:https://www.dorpsraad-swartbroek.nl/activiteit/kaartavond-rksvv/2025-11-07/
LOCATION:RKSVV\, Eutropiastraat 3\, Swartbroek\, 6005 PE\, Nederland
CATEGORIES:Ontspanning
ATTACH;FMTTYPE=image/jpeg:https://www.dorpsraad-swartbroek.nl/wp-content/uploads/2025/10/Speelkaarten-scaled.jpg
ORGANIZER;CN="RKSVV":MAILTO:info@rksvv.nl
END:VEVENT
END:VCALENDAR