BEGIN:VCALENDAR
VERSION:2.0
PRODID:-//Dorpsraad Swartbroek - ECPv6.15.18//NONSGML v1.0//EN
CALSCALE:GREGORIAN
METHOD:PUBLISH
X-ORIGINAL-URL:https://www.dorpsraad-swartbroek.nl
X-WR-CALDESC:Evenementen voor Dorpsraad Swartbroek
REFRESH-INTERVAL;VALUE=DURATION:PT1H
X-Robots-Tag:noindex
X-PUBLISHED-TTL:PT1H
BEGIN:VTIMEZONE
TZID:Europe/Amsterdam
BEGIN:DAYLIGHT
TZOFFSETFROM:+0100
TZOFFSETTO:+0200
TZNAME:CEST
DTSTART:20240331T010000
END:DAYLIGHT
BEGIN:STANDARD
TZOFFSETFROM:+0200
TZOFFSETTO:+0100
TZNAME:CET
DTSTART:20241027T010000
END:STANDARD
BEGIN:DAYLIGHT
TZOFFSETFROM:+0100
TZOFFSETTO:+0200
TZNAME:CEST
DTSTART:20250330T010000
END:DAYLIGHT
BEGIN:STANDARD
TZOFFSETFROM:+0200
TZOFFSETTO:+0100
TZNAME:CET
DTSTART:20251026T010000
END:STANDARD
BEGIN:DAYLIGHT
TZOFFSETFROM:+0100
TZOFFSETTO:+0200
TZNAME:CEST
DTSTART:20260329T010000
END:DAYLIGHT
BEGIN:STANDARD
TZOFFSETFROM:+0200
TZOFFSETTO:+0100
TZNAME:CET
DTSTART:20261025T010000
END:STANDARD
END:VTIMEZONE
BEGIN:VEVENT
DTSTART;TZID=Europe/Amsterdam:20251102T110000
DTEND;TZID=Europe/Amsterdam:20251102T150000
DTSTAMP:20260421T193020
CREATED:20251028T135154Z
LAST-MODIFIED:20251106T075913Z
UID:10001268-1762081200-1762095600@www.dorpsraad-swartbroek.nl
SUMMARY:Carnavalsmarkt 2025
DESCRIPTION:Beste dorpsgenoten\, \n\nOp zondag 2 november 2025 is er bij Bî-j Sanne een carnavalsmarkt van 11.00 tot 15.00 uur. Er zullen enkele bedrijven benaderd worden om carnavals gerelateerde spullen te verkopen. Ook is het voor dorpsgenoten mogelijk om een kraam of tafel te huren voor €5\,00 om tweedehands carnavalskleding en carnavalsaccessoires te verkopen. \nHeb je interesse om op de carnavalsmarkt te staan? Stuur dan een mailtje naar: l.tlbovendeerdt@hotmail.com. \nDenk jij: “Dit bedrijfje mag niet ontbreken op de markt”\, of heb je vragen? Stuur dan ook gerust een mail naar bovenstaand e-mailadres.
URL:https://www.dorpsraad-swartbroek.nl/activiteit/carnavalsmarkt-2025/
LOCATION:Bî-j Sanne\, Ittervoorterweg 101\, Weert\, 6005 NP\, Nederland
CATEGORIES:Carnaval
ATTACH;FMTTYPE=image/jpeg:https://www.dorpsraad-swartbroek.nl/wp-content/uploads/2024/01/Dorpsraad-Carnaval-Confetti.jpg
END:VEVENT
BEGIN:VEVENT
DTSTART;TZID=Europe/Amsterdam:20251114T193000
DTEND;TZID=Europe/Amsterdam:20251114T210000
DTSTAMP:20260421T193020
CREATED:20251031T113915Z
LAST-MODIFIED:20251123T170304Z
UID:10001286-1763148600-1763154000@www.dorpsraad-swartbroek.nl
SUMMARY:Loting Jeugdprinsenpaar 2025
DESCRIPTION:
URL:https://www.dorpsraad-swartbroek.nl/activiteit/loting-jeugdprinsenpaar-2025/
LOCATION:Bî-j Sanne\, Ittervoorterweg 101\, Weert\, 6005 NP\, Nederland
CATEGORIES:Carnaval
ATTACH;FMTTYPE=image/jpeg:https://www.dorpsraad-swartbroek.nl/wp-content/uploads/2025/10/Uitroepen-jeugdprinsepaar-2025-min-scaled.jpg
ORGANIZER;CN="Spoe%C3%ABkejaegers":MAILTO:info@spoeekejaegers.nl
END:VEVENT
BEGIN:VEVENT
DTSTART;TZID=Europe/Amsterdam:20251128T200000
DTEND;TZID=Europe/Amsterdam:20251128T223000
DTSTAMP:20260421T193020
CREATED:20251031T120038Z
LAST-MODIFIED:20251123T170151Z
UID:10001297-1764360000-1764369000@www.dorpsraad-swartbroek.nl
SUMMARY:Buut Culinair
DESCRIPTION:Buut\, spijs en vertier. \nMet buutreedners: Berry Knapen\, Erik Mulder\, Erik Reck\, Fer Naus\, Jamie Ogier\, Joep de Wildt en DJ Sil \nPrijs: €35\,- (Incl. Luxe Borrelplank en 3 consumpties) \nKaartjes te koop bij eetcade Bi-j Sanne
URL:https://www.dorpsraad-swartbroek.nl/activiteit/buut-culinair/2025-11-28/
LOCATION:MFA de Corneel\, Ittervoorterweg 101A\, Swartbroek\, Limburg\, 6005 NP\, Nederland
CATEGORIES:Carnaval,Ontspanning
ATTACH;FMTTYPE=image/jpeg:https://www.dorpsraad-swartbroek.nl/wp-content/uploads/2025/10/Buut-Culinair.jpg
ORGANIZER;CN="Spoe%C3%ABkejaegers":MAILTO:info@spoeekejaegers.nl
END:VEVENT
BEGIN:VEVENT
DTSTART;TZID=Europe/Amsterdam:20251129T200000
DTEND;TZID=Europe/Amsterdam:20251129T223000
DTSTAMP:20260421T193020
CREATED:20251031T120038Z
LAST-MODIFIED:20251123T170151Z
UID:10001298-1764446400-1764455400@www.dorpsraad-swartbroek.nl
SUMMARY:Buut Culinair
DESCRIPTION:Buut\, spijs en vertier. \nMet buutreedners: Berry Knapen\, Erik Mulder\, Erik Reck\, Fer Naus\, Jamie Ogier\, Joep de Wildt en DJ Sil \nPrijs: €35\,- (Incl. Luxe Borrelplank en 3 consumpties) \nKaartjes te koop bij eetcade Bi-j Sanne
URL:https://www.dorpsraad-swartbroek.nl/activiteit/buut-culinair/2025-11-29/
LOCATION:MFA de Corneel\, Ittervoorterweg 101A\, Swartbroek\, Limburg\, 6005 NP\, Nederland
CATEGORIES:Carnaval,Ontspanning
ATTACH;FMTTYPE=image/jpeg:https://www.dorpsraad-swartbroek.nl/wp-content/uploads/2025/10/Buut-Culinair.jpg
ORGANIZER;CN="Spoe%C3%ABkejaegers":MAILTO:info@spoeekejaegers.nl
END:VEVENT
END:VCALENDAR