BEGIN:VCALENDAR
VERSION:2.0
PRODID:-//Dorpsraad Swartbroek - ECPv6.15.18//NONSGML v1.0//EN
CALSCALE:GREGORIAN
METHOD:PUBLISH
X-ORIGINAL-URL:https://www.dorpsraad-swartbroek.nl
X-WR-CALDESC:Evenementen voor Dorpsraad Swartbroek
REFRESH-INTERVAL;VALUE=DURATION:PT1H
X-Robots-Tag:noindex
X-PUBLISHED-TTL:PT1H
BEGIN:VTIMEZONE
TZID:Europe/Amsterdam
BEGIN:DAYLIGHT
TZOFFSETFROM:+0100
TZOFFSETTO:+0200
TZNAME:CEST
DTSTART:20250330T010000
END:DAYLIGHT
BEGIN:STANDARD
TZOFFSETFROM:+0200
TZOFFSETTO:+0100
TZNAME:CET
DTSTART:20251026T010000
END:STANDARD
BEGIN:DAYLIGHT
TZOFFSETFROM:+0100
TZOFFSETTO:+0200
TZNAME:CEST
DTSTART:20260329T010000
END:DAYLIGHT
BEGIN:STANDARD
TZOFFSETFROM:+0200
TZOFFSETTO:+0100
TZNAME:CET
DTSTART:20261025T010000
END:STANDARD
BEGIN:DAYLIGHT
TZOFFSETFROM:+0100
TZOFFSETTO:+0200
TZNAME:CEST
DTSTART:20270328T010000
END:DAYLIGHT
BEGIN:STANDARD
TZOFFSETFROM:+0200
TZOFFSETTO:+0100
TZNAME:CET
DTSTART:20271031T010000
END:STANDARD
END:VTIMEZONE
BEGIN:VEVENT
DTSTART;TZID=Europe/Amsterdam:20260208T130000
DTEND;TZID=Europe/Amsterdam:20260208T210000
DTSTAMP:20260421T165520
CREATED:20251031T133723Z
LAST-MODIFIED:20251221T181834Z
UID:10001307-1770555600-1770584400@www.dorpsraad-swartbroek.nl
SUMMARY:Prinsereceptie
DESCRIPTION:
URL:https://www.dorpsraad-swartbroek.nl/activiteit/prinsereceptie/
LOCATION:Limburg
CATEGORIES:Carnaval
END:VEVENT
END:VCALENDAR