BEGIN:VCALENDAR
VERSION:2.0
PRODID:-//Dorpsraad Swartbroek - ECPv6.15.18//NONSGML v1.0//EN
CALSCALE:GREGORIAN
METHOD:PUBLISH
X-WR-CALNAME:Dorpsraad Swartbroek
X-ORIGINAL-URL:https://www.dorpsraad-swartbroek.nl
X-WR-CALDESC:Evenementen voor Dorpsraad Swartbroek
REFRESH-INTERVAL;VALUE=DURATION:PT1H
X-Robots-Tag:noindex
X-PUBLISHED-TTL:PT1H
BEGIN:VTIMEZONE
TZID:Europe/Amsterdam
BEGIN:DAYLIGHT
TZOFFSETFROM:+0100
TZOFFSETTO:+0200
TZNAME:CEST
DTSTART:20240331T010000
END:DAYLIGHT
BEGIN:STANDARD
TZOFFSETFROM:+0200
TZOFFSETTO:+0100
TZNAME:CET
DTSTART:20241027T010000
END:STANDARD
BEGIN:DAYLIGHT
TZOFFSETFROM:+0100
TZOFFSETTO:+0200
TZNAME:CEST
DTSTART:20250330T010000
END:DAYLIGHT
BEGIN:STANDARD
TZOFFSETFROM:+0200
TZOFFSETTO:+0100
TZNAME:CET
DTSTART:20251026T010000
END:STANDARD
BEGIN:DAYLIGHT
TZOFFSETFROM:+0100
TZOFFSETTO:+0200
TZNAME:CEST
DTSTART:20260329T010000
END:DAYLIGHT
BEGIN:STANDARD
TZOFFSETFROM:+0200
TZOFFSETTO:+0100
TZNAME:CET
DTSTART:20261025T010000
END:STANDARD
END:VTIMEZONE
BEGIN:VEVENT
DTSTART;TZID=Europe/Amsterdam:20251104T083000
DTEND;TZID=Europe/Amsterdam:20251104T110000
DTSTAMP:20260422T032655
CREATED:20251031T110127Z
LAST-MODIFIED:20251106T075913Z
UID:10001283-1762245000-1762254000@www.dorpsraad-swartbroek.nl
SUMMARY:School in Bedrijf
DESCRIPTION:Basisschool Swartbroek groeit! Ervaar de sfeer en ontdk onze manier van werken tijdens School in Bedrijf\, iedereen is van harte welkom.
URL:https://www.dorpsraad-swartbroek.nl/activiteit/school-in-bedrijf/
LOCATION:Basisschool Swartbroek\, Bertiliastraat 1\, Weert\, Limburg\, 6005 PA\, Nederland
CATEGORIES:Ontspanning
ATTACH;FMTTYPE=image/png:https://www.dorpsraad-swartbroek.nl/wp-content/uploads/2025/09/Basisschool-Swartbroek.png
ORGANIZER;CN="Basisschool Swartbroek":MAILTO:l.smolenaers@meerderweert.nl
END:VEVENT
END:VCALENDAR