BEGIN:VCALENDAR
VERSION:2.0
PRODID:-//Dorpsraad Swartbroek - ECPv6.15.18//NONSGML v1.0//EN
CALSCALE:GREGORIAN
METHOD:PUBLISH
X-WR-CALNAME:Dorpsraad Swartbroek
X-ORIGINAL-URL:https://www.dorpsraad-swartbroek.nl
X-WR-CALDESC:Evenementen voor Dorpsraad Swartbroek
REFRESH-INTERVAL;VALUE=DURATION:PT1H
X-Robots-Tag:noindex
X-PUBLISHED-TTL:PT1H
BEGIN:VTIMEZONE
TZID:Europe/Amsterdam
BEGIN:DAYLIGHT
TZOFFSETFROM:+0100
TZOFFSETTO:+0200
TZNAME:CEST
DTSTART:20250330T010000
END:DAYLIGHT
BEGIN:STANDARD
TZOFFSETFROM:+0200
TZOFFSETTO:+0100
TZNAME:CET
DTSTART:20251026T010000
END:STANDARD
BEGIN:DAYLIGHT
TZOFFSETFROM:+0100
TZOFFSETTO:+0200
TZNAME:CEST
DTSTART:20260329T010000
END:DAYLIGHT
BEGIN:STANDARD
TZOFFSETFROM:+0200
TZOFFSETTO:+0100
TZNAME:CET
DTSTART:20261025T010000
END:STANDARD
BEGIN:DAYLIGHT
TZOFFSETFROM:+0100
TZOFFSETTO:+0200
TZNAME:CEST
DTSTART:20270328T010000
END:DAYLIGHT
BEGIN:STANDARD
TZOFFSETFROM:+0200
TZOFFSETTO:+0100
TZNAME:CET
DTSTART:20271031T010000
END:STANDARD
END:VTIMEZONE
BEGIN:VEVENT
DTSTART;TZID=Europe/Amsterdam:20260131T130000
DTEND;TZID=Europe/Amsterdam:20260131T170000
DTSTAMP:20260422T043018
CREATED:20251031T122852Z
LAST-MODIFIED:20251123T171654Z
UID:10001303-1769864400-1769878800@www.dorpsraad-swartbroek.nl
SUMMARY:Jeugd Boôntje Middig
DESCRIPTION:
URL:https://www.dorpsraad-swartbroek.nl/activiteit/jeugd-boontje-middig/
LOCATION:MFA de Corneel\, Ittervoorterweg 101A\, Swartbroek\, Limburg\, 6005 NP\, Nederland
CATEGORIES:Carnaval,Culturele Evenementen
ATTACH;FMTTYPE=image/png:https://www.dorpsraad-swartbroek.nl/wp-content/uploads/2025/10/Jeugd-Boontje-Middig.png
ORGANIZER;CN="Spoe%C3%ABkejaegers":MAILTO:info@spoeekejaegers.nl
END:VEVENT
BEGIN:VEVENT
DTSTART;TZID=Europe/Amsterdam:20260131T193000
DTEND;TZID=Europe/Amsterdam:20260131T230000
DTSTAMP:20260422T043018
CREATED:20251031T123008Z
LAST-MODIFIED:20251221T181722Z
UID:10001304-1769887800-1769900400@www.dorpsraad-swartbroek.nl
SUMMARY:2e Boôntje Aovundj
DESCRIPTION:
URL:https://www.dorpsraad-swartbroek.nl/activiteit/2e-boontje-aovundj/
LOCATION:MFA de Corneel\, Ittervoorterweg 101A\, Swartbroek\, Limburg\, 6005 NP\, Nederland
CATEGORIES:Carnaval,Culturele Evenementen
ATTACH;FMTTYPE=image/jpeg:https://www.dorpsraad-swartbroek.nl/wp-content/uploads/2025/10/Bonte-Avond-2026-scaled.jpg
ORGANIZER;CN="Spoe%C3%ABkejaegers":MAILTO:info@spoeekejaegers.nl
END:VEVENT
BEGIN:VEVENT
DTSTART;TZID=Europe/Amsterdam:20260203T200000
DTEND;TZID=Europe/Amsterdam:20260203T220000
DTSTAMP:20260422T043018
CREATED:20251031T115038Z
LAST-MODIFIED:20251106T075913Z
UID:10001292-1770148800-1770156000@www.dorpsraad-swartbroek.nl
SUMMARY:Activiteit VVS
DESCRIPTION:
URL:https://www.dorpsraad-swartbroek.nl/activiteit/activiteit-vvs/2026-02-03/
LOCATION:MFA de Corneel\, Ittervoorterweg 101A\, Swartbroek\, Limburg\, 6005 NP\, Nederland
CATEGORIES:Ontspanning
ORGANIZER;CN="Vrouwenvereniging VVS":MAILTO:wjm.koonen@planet.nl
END:VEVENT
BEGIN:VEVENT
DTSTART;TZID=Europe/Amsterdam:20260204T123000
DTEND;TZID=Europe/Amsterdam:20260204T170000
DTSTAMP:20260422T043018
CREATED:20251031T133442Z
LAST-MODIFIED:20251123T172003Z
UID:10001305-1770208200-1770224400@www.dorpsraad-swartbroek.nl
SUMMARY:Senioren middig
DESCRIPTION:
URL:https://www.dorpsraad-swartbroek.nl/activiteit/senioren-middig/
LOCATION:MFA de Corneel\, Ittervoorterweg 101A\, Swartbroek\, Limburg\, 6005 NP\, Nederland
CATEGORIES:Carnaval
ORGANIZER;CN="Spoe%C3%ABkejaegers":MAILTO:info@spoeekejaegers.nl
END:VEVENT
BEGIN:VEVENT
DTSTART;TZID=Europe/Amsterdam:20260206T200000
DTEND;TZID=Europe/Amsterdam:20260206T223000
DTSTAMP:20260422T043018
CREATED:20251031T104816Z
LAST-MODIFIED:20251031T111138Z
UID:10001279-1770408000-1770417000@www.dorpsraad-swartbroek.nl
SUMMARY:Kaartavond RKSVV
DESCRIPTION:Ook dit jaar organiseert RKSVV i.s.m. schutterij St.Cornelius weer 10 kaartavonden ( kruisjassen ) op de vrijdagavond die altijd om 20.00uur beginnen. \nEr zijn mooie dagprijzen te winnen en ook zijn er na de 10 kaartavonden eindprijzen te winnen waarvoor de 7 hoogste scores tellen. \nZegt het voort want hoe meer zielen hoe meer vreugde.
URL:https://www.dorpsraad-swartbroek.nl/activiteit/kaartavond-rksvv/2026-02-06/
LOCATION:RKSVV\, Eutropiastraat 3\, Swartbroek\, 6005 PE\, Nederland
CATEGORIES:Ontspanning
ATTACH;FMTTYPE=image/jpeg:https://www.dorpsraad-swartbroek.nl/wp-content/uploads/2025/10/Speelkaarten-scaled.jpg
ORGANIZER;CN="RKSVV":MAILTO:info@rksvv.nl
END:VEVENT
BEGIN:VEVENT
DTSTART;TZID=Europe/Amsterdam:20260206T200000
DTEND;TZID=Europe/Amsterdam:20260206T233000
DTSTAMP:20260422T043018
CREATED:20251221T181353Z
LAST-MODIFIED:20251221T181353Z
UID:10001321-1770408000-1770420600@www.dorpsraad-swartbroek.nl
SUMMARY:Kapellefestival 2026
DESCRIPTION:
URL:https://www.dorpsraad-swartbroek.nl/activiteit/kapellefestival-2026/
LOCATION:Limburg
ATTACH;FMTTYPE=image/jpeg:https://www.dorpsraad-swartbroek.nl/wp-content/uploads/2025/10/Kapellefestival.jpg
END:VEVENT
BEGIN:VEVENT
DTSTART;TZID=Europe/Amsterdam:20260208T130000
DTEND;TZID=Europe/Amsterdam:20260208T210000
DTSTAMP:20260422T043018
CREATED:20251031T133723Z
LAST-MODIFIED:20251221T181834Z
UID:10001307-1770555600-1770584400@www.dorpsraad-swartbroek.nl
SUMMARY:Prinsereceptie
DESCRIPTION:
URL:https://www.dorpsraad-swartbroek.nl/activiteit/prinsereceptie/
LOCATION:Limburg
CATEGORIES:Carnaval
END:VEVENT
BEGIN:VEVENT
DTSTART;TZID=Europe/Amsterdam:20260213T080000
DTEND;TZID=Europe/Amsterdam:20260213T170000
DTSTAMP:20260422T043018
CREATED:20251031T133952Z
LAST-MODIFIED:20251123T171913Z
UID:10001308-1770969600-1771002000@www.dorpsraad-swartbroek.nl
SUMMARY:Jeugd Vastelaovundj Aovundj
DESCRIPTION:
URL:https://www.dorpsraad-swartbroek.nl/activiteit/jeugd-vastelaovundj-aovundj/
LOCATION:MFA de Corneel\, Ittervoorterweg 101A\, Swartbroek\, Limburg\, 6005 NP\, Nederland
CATEGORIES:Carnaval
ORGANIZER;CN="Spoe%C3%ABkejaegers":MAILTO:info@spoeekejaegers.nl
END:VEVENT
BEGIN:VEVENT
DTSTART;TZID=Europe/Amsterdam:20260214T080000
DTEND;TZID=Europe/Amsterdam:20260214T170000
DTSTAMP:20260422T043018
CREATED:20251031T134054Z
LAST-MODIFIED:20251106T075912Z
UID:10001309-1771056000-1771088400@www.dorpsraad-swartbroek.nl
SUMMARY:Boorebroeloft
DESCRIPTION:
URL:https://www.dorpsraad-swartbroek.nl/activiteit/boorebroeloft/
LOCATION:MFA de Corneel\, Ittervoorterweg 101A\, Swartbroek\, Limburg\, 6005 NP\, Nederland
CATEGORIES:Carnaval
ORGANIZER;CN="Spoe%C3%ABkejaegers":MAILTO:info@spoeekejaegers.nl
END:VEVENT
BEGIN:VEVENT
DTSTART;TZID=Europe/Amsterdam:20260217T133000
DTEND;TZID=Europe/Amsterdam:20260217T230000
DTSTAMP:20260422T043018
CREATED:20251031T134259Z
LAST-MODIFIED:20260119T220920Z
UID:10001310-1771335000-1771369200@www.dorpsraad-swartbroek.nl
SUMMARY:Optocht / Spoeëk verjaage / Abdicatie
DESCRIPTION:Download hier het optocht opgave formulier:
URL:https://www.dorpsraad-swartbroek.nl/activiteit/optocht-spoeek-verjaage-abdicatie/
LOCATION:MFA de Corneel\, Ittervoorterweg 101A\, Swartbroek\, Limburg\, 6005 NP\, Nederland
CATEGORIES:Carnaval
ORGANIZER;CN="Spoe%C3%ABkejaegers":MAILTO:info@spoeekejaegers.nl
END:VEVENT
BEGIN:VEVENT
DTSTART;TZID=Europe/Amsterdam:20260220T200000
DTEND;TZID=Europe/Amsterdam:20260220T223000
DTSTAMP:20260422T043018
CREATED:20251031T104816Z
LAST-MODIFIED:20251031T111138Z
UID:10001280-1771617600-1771626600@www.dorpsraad-swartbroek.nl
SUMMARY:Kaartavond RKSVV
DESCRIPTION:Ook dit jaar organiseert RKSVV i.s.m. schutterij St.Cornelius weer 10 kaartavonden ( kruisjassen ) op de vrijdagavond die altijd om 20.00uur beginnen. \nEr zijn mooie dagprijzen te winnen en ook zijn er na de 10 kaartavonden eindprijzen te winnen waarvoor de 7 hoogste scores tellen. \nZegt het voort want hoe meer zielen hoe meer vreugde.
URL:https://www.dorpsraad-swartbroek.nl/activiteit/kaartavond-rksvv/2026-02-20/
LOCATION:RKSVV\, Eutropiastraat 3\, Swartbroek\, 6005 PE\, Nederland
CATEGORIES:Ontspanning
ATTACH;FMTTYPE=image/jpeg:https://www.dorpsraad-swartbroek.nl/wp-content/uploads/2025/10/Speelkaarten-scaled.jpg
ORGANIZER;CN="RKSVV":MAILTO:info@rksvv.nl
END:VEVENT
BEGIN:VEVENT
DTSTART;TZID=Europe/Amsterdam:20260226T200000
DTEND;TZID=Europe/Amsterdam:20260226T220000
DTSTAMP:20260422T043018
CREATED:20251031T115038Z
LAST-MODIFIED:20251106T075913Z
UID:10001293-1772136000-1772143200@www.dorpsraad-swartbroek.nl
SUMMARY:Activiteit VVS
DESCRIPTION:
URL:https://www.dorpsraad-swartbroek.nl/activiteit/activiteit-vvs/2026-02-26/
LOCATION:MFA de Corneel\, Ittervoorterweg 101A\, Swartbroek\, Limburg\, 6005 NP\, Nederland
CATEGORIES:Ontspanning
ORGANIZER;CN="Vrouwenvereniging VVS":MAILTO:wjm.koonen@planet.nl
END:VEVENT
BEGIN:VEVENT
DTSTART;TZID=Europe/Amsterdam:20260306T200000
DTEND;TZID=Europe/Amsterdam:20260306T223000
DTSTAMP:20260422T043018
CREATED:20251031T104816Z
LAST-MODIFIED:20251031T111138Z
UID:10001281-1772827200-1772836200@www.dorpsraad-swartbroek.nl
SUMMARY:Kaartavond RKSVV
DESCRIPTION:Ook dit jaar organiseert RKSVV i.s.m. schutterij St.Cornelius weer 10 kaartavonden ( kruisjassen ) op de vrijdagavond die altijd om 20.00uur beginnen. \nEr zijn mooie dagprijzen te winnen en ook zijn er na de 10 kaartavonden eindprijzen te winnen waarvoor de 7 hoogste scores tellen. \nZegt het voort want hoe meer zielen hoe meer vreugde.
URL:https://www.dorpsraad-swartbroek.nl/activiteit/kaartavond-rksvv/2026-03-06/
LOCATION:RKSVV\, Eutropiastraat 3\, Swartbroek\, 6005 PE\, Nederland
CATEGORIES:Ontspanning
ATTACH;FMTTYPE=image/jpeg:https://www.dorpsraad-swartbroek.nl/wp-content/uploads/2025/10/Speelkaarten-scaled.jpg
ORGANIZER;CN="RKSVV":MAILTO:info@rksvv.nl
END:VEVENT
BEGIN:VEVENT
DTSTART;TZID=Europe/Amsterdam:20260312T200000
DTEND;TZID=Europe/Amsterdam:20260312T220000
DTSTAMP:20260422T043018
CREATED:20251031T115038Z
LAST-MODIFIED:20251106T075913Z
UID:10001294-1773345600-1773352800@www.dorpsraad-swartbroek.nl
SUMMARY:Activiteit VVS
DESCRIPTION:
URL:https://www.dorpsraad-swartbroek.nl/activiteit/activiteit-vvs/2026-03-12/
LOCATION:MFA de Corneel\, Ittervoorterweg 101A\, Swartbroek\, Limburg\, 6005 NP\, Nederland
CATEGORIES:Ontspanning
ORGANIZER;CN="Vrouwenvereniging VVS":MAILTO:wjm.koonen@planet.nl
END:VEVENT
BEGIN:VEVENT
DTSTART;TZID=Europe/Amsterdam:20260320T200000
DTEND;TZID=Europe/Amsterdam:20260320T223000
DTSTAMP:20260422T043018
CREATED:20251031T104816Z
LAST-MODIFIED:20251031T111138Z
UID:10001282-1774036800-1774045800@www.dorpsraad-swartbroek.nl
SUMMARY:Kaartavond RKSVV
DESCRIPTION:Ook dit jaar organiseert RKSVV i.s.m. schutterij St.Cornelius weer 10 kaartavonden ( kruisjassen ) op de vrijdagavond die altijd om 20.00uur beginnen. \nEr zijn mooie dagprijzen te winnen en ook zijn er na de 10 kaartavonden eindprijzen te winnen waarvoor de 7 hoogste scores tellen. \nZegt het voort want hoe meer zielen hoe meer vreugde.
URL:https://www.dorpsraad-swartbroek.nl/activiteit/kaartavond-rksvv/2026-03-20/
LOCATION:RKSVV\, Eutropiastraat 3\, Swartbroek\, 6005 PE\, Nederland
CATEGORIES:Ontspanning
ATTACH;FMTTYPE=image/jpeg:https://www.dorpsraad-swartbroek.nl/wp-content/uploads/2025/10/Speelkaarten-scaled.jpg
ORGANIZER;CN="RKSVV":MAILTO:info@rksvv.nl
END:VEVENT
BEGIN:VEVENT
DTSTART;TZID=Europe/Amsterdam:20260329T110000
DTEND;TZID=Europe/Amsterdam:20260329T130000
DTSTAMP:20260422T043018
CREATED:20260108T184354Z
LAST-MODIFIED:20260108T184354Z
UID:10001324-1774782000-1774789200@www.dorpsraad-swartbroek.nl
SUMMARY:Open dag Basisschool Swartbroek
DESCRIPTION:Alle inwoners van Swartbroek en andere belangstellenden zijn van harte welkom om op zondag 29 maart een kijkje te komen nemen in onze prachtige school. \nBasisschool Swartbroek groeit en bloeit! Binnenkort verwelkomen wij onze 50e leerling. Ontdek onze school in het groen\, een plek waar ieder kind telt en waar we doen wat ertoe doet.
URL:https://www.dorpsraad-swartbroek.nl/activiteit/open-dag-basisschool-swartbroek/
LOCATION:Basisschool Swartbroek\, Bertiliastraat 1\, Weert\, Limburg\, 6005 PA\, Nederland
ORGANIZER;CN="Basisschool Swartbroek":MAILTO:l.smolenaers@meerderweert.nl
END:VEVENT
BEGIN:VEVENT
DTSTART;TZID=Europe/Amsterdam:20260409T200000
DTEND;TZID=Europe/Amsterdam:20260409T220000
DTSTAMP:20260422T043018
CREATED:20251031T115038Z
LAST-MODIFIED:20251106T075913Z
UID:10001295-1775764800-1775772000@www.dorpsraad-swartbroek.nl
SUMMARY:Activiteit VVS
DESCRIPTION:
URL:https://www.dorpsraad-swartbroek.nl/activiteit/activiteit-vvs/2026-04-09/
LOCATION:MFA de Corneel\, Ittervoorterweg 101A\, Swartbroek\, Limburg\, 6005 NP\, Nederland
CATEGORIES:Ontspanning
ORGANIZER;CN="Vrouwenvereniging VVS":MAILTO:wjm.koonen@planet.nl
END:VEVENT
BEGIN:VEVENT
DTSTART;TZID=Europe/Amsterdam:20260423T200000
DTEND;TZID=Europe/Amsterdam:20260423T220000
DTSTAMP:20260422T043018
CREATED:20251031T115038Z
LAST-MODIFIED:20251106T075913Z
UID:10001296-1776974400-1776981600@www.dorpsraad-swartbroek.nl
SUMMARY:Activiteit VVS
DESCRIPTION:
URL:https://www.dorpsraad-swartbroek.nl/activiteit/activiteit-vvs/2026-04-23/
LOCATION:MFA de Corneel\, Ittervoorterweg 101A\, Swartbroek\, Limburg\, 6005 NP\, Nederland
CATEGORIES:Ontspanning
ORGANIZER;CN="Vrouwenvereniging VVS":MAILTO:wjm.koonen@planet.nl
END:VEVENT
BEGIN:VEVENT
DTSTART;TZID=Europe/Amsterdam:20260424T200000
DTEND;TZID=Europe/Amsterdam:20260424T220000
DTSTAMP:20260422T043018
CREATED:20251031T134350Z
LAST-MODIFIED:20251106T075912Z
UID:10001311-1777060800-1777068000@www.dorpsraad-swartbroek.nl
SUMMARY:Ledenvergadering
DESCRIPTION:
URL:https://www.dorpsraad-swartbroek.nl/activiteit/ledenvergadering/
LOCATION:MFA de Corneel\, Ittervoorterweg 101A\, Swartbroek\, Limburg\, 6005 NP\, Nederland
CATEGORIES:Carnaval
ORGANIZER;CN="Spoe%C3%ABkejaegers":MAILTO:info@spoeekejaegers.nl
END:VEVENT
END:VCALENDAR