BEGIN:VCALENDAR
VERSION:2.0
PRODID:-//Dorpsraad Swartbroek - ECPv6.15.18//NONSGML v1.0//EN
CALSCALE:GREGORIAN
METHOD:PUBLISH
X-WR-CALNAME:Dorpsraad Swartbroek
X-ORIGINAL-URL:https://www.dorpsraad-swartbroek.nl
X-WR-CALDESC:Evenementen voor Dorpsraad Swartbroek
REFRESH-INTERVAL;VALUE=DURATION:PT1H
X-Robots-Tag:noindex
X-PUBLISHED-TTL:PT1H
BEGIN:VTIMEZONE
TZID:Europe/Amsterdam
BEGIN:DAYLIGHT
TZOFFSETFROM:+0100
TZOFFSETTO:+0200
TZNAME:CEST
DTSTART:20240331T010000
END:DAYLIGHT
BEGIN:STANDARD
TZOFFSETFROM:+0200
TZOFFSETTO:+0100
TZNAME:CET
DTSTART:20241027T010000
END:STANDARD
BEGIN:DAYLIGHT
TZOFFSETFROM:+0100
TZOFFSETTO:+0200
TZNAME:CEST
DTSTART:20250330T010000
END:DAYLIGHT
BEGIN:STANDARD
TZOFFSETFROM:+0200
TZOFFSETTO:+0100
TZNAME:CET
DTSTART:20251026T010000
END:STANDARD
BEGIN:DAYLIGHT
TZOFFSETFROM:+0100
TZOFFSETTO:+0200
TZNAME:CEST
DTSTART:20260329T010000
END:DAYLIGHT
BEGIN:STANDARD
TZOFFSETFROM:+0200
TZOFFSETTO:+0100
TZNAME:CET
DTSTART:20261025T010000
END:STANDARD
BEGIN:DAYLIGHT
TZOFFSETFROM:+0100
TZOFFSETTO:+0200
TZNAME:CEST
DTSTART:20270328T010000
END:DAYLIGHT
BEGIN:STANDARD
TZOFFSETFROM:+0200
TZOFFSETTO:+0100
TZNAME:CET
DTSTART:20271031T010000
END:STANDARD
END:VTIMEZONE
BEGIN:VEVENT
DTSTART;TZID=Europe/Amsterdam:20260206T200000
DTEND;TZID=Europe/Amsterdam:20260206T223000
DTSTAMP:20260421T175932
CREATED:20251031T104816Z
LAST-MODIFIED:20251031T111138Z
UID:10001279-1770408000-1770417000@www.dorpsraad-swartbroek.nl
SUMMARY:Kaartavond RKSVV
DESCRIPTION:Ook dit jaar organiseert RKSVV i.s.m. schutterij St.Cornelius weer 10 kaartavonden ( kruisjassen ) op de vrijdagavond die altijd om 20.00uur beginnen. \nEr zijn mooie dagprijzen te winnen en ook zijn er na de 10 kaartavonden eindprijzen te winnen waarvoor de 7 hoogste scores tellen. \nZegt het voort want hoe meer zielen hoe meer vreugde.
URL:https://www.dorpsraad-swartbroek.nl/activiteit/kaartavond-rksvv/2026-02-06/
LOCATION:RKSVV\, Eutropiastraat 3\, Swartbroek\, 6005 PE\, Nederland
CATEGORIES:Ontspanning
ATTACH;FMTTYPE=image/jpeg:https://www.dorpsraad-swartbroek.nl/wp-content/uploads/2025/10/Speelkaarten-scaled.jpg
ORGANIZER;CN="RKSVV":MAILTO:info@rksvv.nl
END:VEVENT
BEGIN:VEVENT
DTSTART;TZID=Europe/Amsterdam:20260204T123000
DTEND;TZID=Europe/Amsterdam:20260204T170000
DTSTAMP:20260421T175932
CREATED:20251031T133442Z
LAST-MODIFIED:20251123T172003Z
UID:10001305-1770208200-1770224400@www.dorpsraad-swartbroek.nl
SUMMARY:Senioren middig
DESCRIPTION:
URL:https://www.dorpsraad-swartbroek.nl/activiteit/senioren-middig/
LOCATION:MFA de Corneel\, Ittervoorterweg 101A\, Swartbroek\, Limburg\, 6005 NP\, Nederland
CATEGORIES:Carnaval
ORGANIZER;CN="Spoe%C3%ABkejaegers":MAILTO:info@spoeekejaegers.nl
END:VEVENT
BEGIN:VEVENT
DTSTART;TZID=Europe/Amsterdam:20260203T200000
DTEND;TZID=Europe/Amsterdam:20260203T220000
DTSTAMP:20260421T175932
CREATED:20251031T115038Z
LAST-MODIFIED:20251106T075913Z
UID:10001292-1770148800-1770156000@www.dorpsraad-swartbroek.nl
SUMMARY:Activiteit VVS
DESCRIPTION:
URL:https://www.dorpsraad-swartbroek.nl/activiteit/activiteit-vvs/2026-02-03/
LOCATION:MFA de Corneel\, Ittervoorterweg 101A\, Swartbroek\, Limburg\, 6005 NP\, Nederland
CATEGORIES:Ontspanning
ORGANIZER;CN="Vrouwenvereniging VVS":MAILTO:wjm.koonen@planet.nl
END:VEVENT
BEGIN:VEVENT
DTSTART;TZID=Europe/Amsterdam:20260131T193000
DTEND;TZID=Europe/Amsterdam:20260131T230000
DTSTAMP:20260421T175932
CREATED:20251031T123008Z
LAST-MODIFIED:20251221T181722Z
UID:10001304-1769887800-1769900400@www.dorpsraad-swartbroek.nl
SUMMARY:2e Boôntje Aovundj
DESCRIPTION:
URL:https://www.dorpsraad-swartbroek.nl/activiteit/2e-boontje-aovundj/
LOCATION:MFA de Corneel\, Ittervoorterweg 101A\, Swartbroek\, Limburg\, 6005 NP\, Nederland
CATEGORIES:Carnaval,Culturele Evenementen
ATTACH;FMTTYPE=image/jpeg:https://www.dorpsraad-swartbroek.nl/wp-content/uploads/2025/10/Bonte-Avond-2026-scaled.jpg
ORGANIZER;CN="Spoe%C3%ABkejaegers":MAILTO:info@spoeekejaegers.nl
END:VEVENT
BEGIN:VEVENT
DTSTART;TZID=Europe/Amsterdam:20260131T130000
DTEND;TZID=Europe/Amsterdam:20260131T170000
DTSTAMP:20260421T175932
CREATED:20251031T122852Z
LAST-MODIFIED:20251123T171654Z
UID:10001303-1769864400-1769878800@www.dorpsraad-swartbroek.nl
SUMMARY:Jeugd Boôntje Middig
DESCRIPTION:
URL:https://www.dorpsraad-swartbroek.nl/activiteit/jeugd-boontje-middig/
LOCATION:MFA de Corneel\, Ittervoorterweg 101A\, Swartbroek\, Limburg\, 6005 NP\, Nederland
CATEGORIES:Carnaval,Culturele Evenementen
ATTACH;FMTTYPE=image/png:https://www.dorpsraad-swartbroek.nl/wp-content/uploads/2025/10/Jeugd-Boontje-Middig.png
ORGANIZER;CN="Spoe%C3%ABkejaegers":MAILTO:info@spoeekejaegers.nl
END:VEVENT
BEGIN:VEVENT
DTSTART;TZID=Europe/Amsterdam:20260130T200000
DTEND;TZID=Europe/Amsterdam:20260130T223000
DTSTAMP:20260421T175932
CREATED:20251031T104816Z
LAST-MODIFIED:20251031T111138Z
UID:10001278-1769803200-1769812200@www.dorpsraad-swartbroek.nl
SUMMARY:Kaartavond RKSVV
DESCRIPTION:Ook dit jaar organiseert RKSVV i.s.m. schutterij St.Cornelius weer 10 kaartavonden ( kruisjassen ) op de vrijdagavond die altijd om 20.00uur beginnen. \nEr zijn mooie dagprijzen te winnen en ook zijn er na de 10 kaartavonden eindprijzen te winnen waarvoor de 7 hoogste scores tellen. \nZegt het voort want hoe meer zielen hoe meer vreugde.
URL:https://www.dorpsraad-swartbroek.nl/activiteit/kaartavond-rksvv/2026-01-30/
LOCATION:RKSVV\, Eutropiastraat 3\, Swartbroek\, 6005 PE\, Nederland
CATEGORIES:Ontspanning
ATTACH;FMTTYPE=image/jpeg:https://www.dorpsraad-swartbroek.nl/wp-content/uploads/2025/10/Speelkaarten-scaled.jpg
ORGANIZER;CN="RKSVV":MAILTO:info@rksvv.nl
END:VEVENT
BEGIN:VEVENT
DTSTART;TZID=Europe/Amsterdam:20260130T193000
DTEND;TZID=Europe/Amsterdam:20260130T230000
DTSTAMP:20260421T175932
CREATED:20251031T122607Z
LAST-MODIFIED:20251221T181653Z
UID:10001302-1769801400-1769814000@www.dorpsraad-swartbroek.nl
SUMMARY:1e Boôntje Aovundj
DESCRIPTION:
URL:https://www.dorpsraad-swartbroek.nl/activiteit/1e-boontje-aovundj/
LOCATION:MFA de Corneel\, Ittervoorterweg 101A\, Swartbroek\, Limburg\, 6005 NP\, Nederland
CATEGORIES:Carnaval,Culturele Evenementen
ATTACH;FMTTYPE=image/jpeg:https://www.dorpsraad-swartbroek.nl/wp-content/uploads/2025/10/Bonte-Avond-2026-scaled.jpg
ORGANIZER;CN="Spoe%C3%ABkejaegers":MAILTO:info@spoeekejaegers.nl
END:VEVENT
BEGIN:VEVENT
DTSTART;TZID=Europe/Amsterdam:20260122T210000
DTEND;TZID=Europe/Amsterdam:20260122T220000
DTSTAMP:20260421T175932
CREATED:20260108T183708Z
LAST-MODIFIED:20260108T184433Z
UID:10001323-1769115600-1769119200@www.dorpsraad-swartbroek.nl
SUMMARY:Ledenvergadering RKSVV
DESCRIPTION:Extra ledenvergadering RKSVV
URL:https://www.dorpsraad-swartbroek.nl/activiteit/ledenvergadering-rksvv/
LOCATION:Kantine RKSVV\, Eutropiastaat 1\, Weert\, Limburg\, 6005PE\, Nederland
CATEGORIES:Vergaderingen
ATTACH;FMTTYPE=image/png:https://www.dorpsraad-swartbroek.nl/wp-content/uploads/2025/09/RKSVV-1.png
ORGANIZER;CN="RKSVV":MAILTO:info@rksvv.nl
END:VEVENT
BEGIN:VEVENT
DTSTART;TZID=Europe/Amsterdam:20260122T200000
DTEND;TZID=Europe/Amsterdam:20260122T220000
DTSTAMP:20260421T175932
CREATED:20251123T170842Z
LAST-MODIFIED:20260108T183852Z
UID:10001312-1769112000-1769119200@www.dorpsraad-swartbroek.nl
SUMMARY:Jaarvergadering VVS
DESCRIPTION:
URL:https://www.dorpsraad-swartbroek.nl/activiteit/jaarvergadering-vvs/
LOCATION:Limburg
CATEGORIES:Vergaderingen
END:VEVENT
BEGIN:VEVENT
DTSTART;TZID=Europe/Amsterdam:20260116T200000
DTEND;TZID=Europe/Amsterdam:20260116T223000
DTSTAMP:20260421T175932
CREATED:20251031T104816Z
LAST-MODIFIED:20251031T111138Z
UID:10001277-1768593600-1768602600@www.dorpsraad-swartbroek.nl
SUMMARY:Kaartavond RKSVV
DESCRIPTION:Ook dit jaar organiseert RKSVV i.s.m. schutterij St.Cornelius weer 10 kaartavonden ( kruisjassen ) op de vrijdagavond die altijd om 20.00uur beginnen. \nEr zijn mooie dagprijzen te winnen en ook zijn er na de 10 kaartavonden eindprijzen te winnen waarvoor de 7 hoogste scores tellen. \nZegt het voort want hoe meer zielen hoe meer vreugde.
URL:https://www.dorpsraad-swartbroek.nl/activiteit/kaartavond-rksvv/2026-01-16/
LOCATION:RKSVV\, Eutropiastraat 3\, Swartbroek\, 6005 PE\, Nederland
CATEGORIES:Ontspanning
ATTACH;FMTTYPE=image/jpeg:https://www.dorpsraad-swartbroek.nl/wp-content/uploads/2025/10/Speelkaarten-scaled.jpg
ORGANIZER;CN="RKSVV":MAILTO:info@rksvv.nl
END:VEVENT
BEGIN:VEVENT
DTSTART;TZID=Europe/Amsterdam:20260110T193000
DTEND;TZID=Europe/Amsterdam:20260110T233000
DTSTAMP:20260421T175932
CREATED:20251031T121730Z
LAST-MODIFIED:20251123T170616Z
UID:10001300-1768073400-1768087800@www.dorpsraad-swartbroek.nl
SUMMARY:Prinsebal
DESCRIPTION:
URL:https://www.dorpsraad-swartbroek.nl/activiteit/prinsebal/
LOCATION:MFA de Corneel\, Ittervoorterweg 101A\, Swartbroek\, Limburg\, 6005 NP\, Nederland
CATEGORIES:Carnaval
ATTACH;FMTTYPE=image/jpeg:https://www.dorpsraad-swartbroek.nl/wp-content/uploads/2025/10/Prinsenbal.jpg
ORGANIZER;CN="Spoe%C3%ABkejaegers":MAILTO:info@spoeekejaegers.nl
END:VEVENT
BEGIN:VEVENT
DTSTART;TZID=Europe/Amsterdam:20260102T193000
DTEND;TZID=Europe/Amsterdam:20260102T220000
DTSTAMP:20260421T175932
CREATED:20251222T210811Z
LAST-MODIFIED:20251222T210811Z
UID:10001322-1767382200-1767391200@www.dorpsraad-swartbroek.nl
SUMMARY:Nieuwjaarsreceptie RKSVV 2026
DESCRIPTION:Nieuwjaarsreceptie en huldiging jubilarissen vrijdag 2 januari \nWat vliegt de tijd! Een jaar is weer bijna voorbij en dat betekent dat het tijd is om 2026 feestelijk in te luiden met onze jaarlijkse nieuwjaarsreceptie.\nWe kunnen dit niet beter doen dan met de vertrouwde sfeer van de RKSVV kantine.\nOp vrijdag 2 januari staan de deuren van de kantine wijd open vanaf 19:30 uur\nOf je nu een fanatieke sporter bent\, een betrokken supporter of gewoon zin hebt in een gezellige avond\, wij kijken ernaar uit om je te verwelkomen.\nNatuurlijk willen we ook stilstaan bij enkele serieuze zaken.\nWe hebben het genoegen om enkele jubilarissen te huldigen en wel de volgende:\n40 jaar lid van RKSVV: Roger Keulen\n25 jaar lid van RKSVV: Gabi Radu\nWe kijken er enorm naar uit om samen het nieuwe jaar te beginnen.\nTot ziens op vrijdag 2 januari in de vertrouwde RKSVV-kantine! \nHierbij zijn alle inwoners van Swartbroek en verdere geïnteresseerde uitgenodigd.
URL:https://www.dorpsraad-swartbroek.nl/activiteit/nieuwjaarsreceptie-rksvv-2026/
LOCATION:RKSVV\, Eutropiastraat 3\, Swartbroek\, 6005 PE\, Nederland
END:VEVENT
BEGIN:VEVENT
DTSTART;TZID=Europe/Amsterdam:20251219T200000
DTEND;TZID=Europe/Amsterdam:20251219T223000
DTSTAMP:20260421T175932
CREATED:20251031T104816Z
LAST-MODIFIED:20251031T111138Z
UID:10001276-1766174400-1766183400@www.dorpsraad-swartbroek.nl
SUMMARY:Kaartavond RKSVV
DESCRIPTION:Ook dit jaar organiseert RKSVV i.s.m. schutterij St.Cornelius weer 10 kaartavonden ( kruisjassen ) op de vrijdagavond die altijd om 20.00uur beginnen. \nEr zijn mooie dagprijzen te winnen en ook zijn er na de 10 kaartavonden eindprijzen te winnen waarvoor de 7 hoogste scores tellen. \nZegt het voort want hoe meer zielen hoe meer vreugde.
URL:https://www.dorpsraad-swartbroek.nl/activiteit/kaartavond-rksvv/2025-12-19/
LOCATION:RKSVV\, Eutropiastraat 3\, Swartbroek\, 6005 PE\, Nederland
CATEGORIES:Ontspanning
ATTACH;FMTTYPE=image/jpeg:https://www.dorpsraad-swartbroek.nl/wp-content/uploads/2025/10/Speelkaarten-scaled.jpg
ORGANIZER;CN="RKSVV":MAILTO:info@rksvv.nl
END:VEVENT
BEGIN:VEVENT
DTSTART;TZID=Europe/Amsterdam:20251218T200000
DTEND;TZID=Europe/Amsterdam:20251218T220000
DTSTAMP:20260421T175932
CREATED:20251031T115038Z
LAST-MODIFIED:20251106T075913Z
UID:10001291-1766088000-1766095200@www.dorpsraad-swartbroek.nl
SUMMARY:Activiteit VVS
DESCRIPTION:
URL:https://www.dorpsraad-swartbroek.nl/activiteit/activiteit-vvs/2025-12-18/
LOCATION:MFA de Corneel\, Ittervoorterweg 101A\, Swartbroek\, Limburg\, 6005 NP\, Nederland
CATEGORIES:Ontspanning
ORGANIZER;CN="Vrouwenvereniging VVS":MAILTO:wjm.koonen@planet.nl
END:VEVENT
BEGIN:VEVENT
DTSTART;TZID=Europe/Amsterdam:20251204T200000
DTEND;TZID=Europe/Amsterdam:20251204T220000
DTSTAMP:20260421T175932
CREATED:20251031T115038Z
LAST-MODIFIED:20251106T075913Z
UID:10001290-1764878400-1764885600@www.dorpsraad-swartbroek.nl
SUMMARY:Activiteit VVS
DESCRIPTION:
URL:https://www.dorpsraad-swartbroek.nl/activiteit/activiteit-vvs/2025-12-04/
LOCATION:MFA de Corneel\, Ittervoorterweg 101A\, Swartbroek\, Limburg\, 6005 NP\, Nederland
CATEGORIES:Ontspanning
ORGANIZER;CN="Vrouwenvereniging VVS":MAILTO:wjm.koonen@planet.nl
END:VEVENT
BEGIN:VEVENT
DTSTART;TZID=Europe/Amsterdam:20251129T200000
DTEND;TZID=Europe/Amsterdam:20251129T223000
DTSTAMP:20260421T175932
CREATED:20251031T120038Z
LAST-MODIFIED:20251123T170151Z
UID:10001298-1764446400-1764455400@www.dorpsraad-swartbroek.nl
SUMMARY:Buut Culinair
DESCRIPTION:Buut\, spijs en vertier. \nMet buutreedners: Berry Knapen\, Erik Mulder\, Erik Reck\, Fer Naus\, Jamie Ogier\, Joep de Wildt en DJ Sil \nPrijs: €35\,- (Incl. Luxe Borrelplank en 3 consumpties) \nKaartjes te koop bij eetcade Bi-j Sanne
URL:https://www.dorpsraad-swartbroek.nl/activiteit/buut-culinair/2025-11-29/
LOCATION:MFA de Corneel\, Ittervoorterweg 101A\, Swartbroek\, Limburg\, 6005 NP\, Nederland
CATEGORIES:Carnaval,Ontspanning
ATTACH;FMTTYPE=image/jpeg:https://www.dorpsraad-swartbroek.nl/wp-content/uploads/2025/10/Buut-Culinair.jpg
ORGANIZER;CN="Spoe%C3%ABkejaegers":MAILTO:info@spoeekejaegers.nl
END:VEVENT
BEGIN:VEVENT
DTSTART;TZID=Europe/Amsterdam:20251128T200000
DTEND;TZID=Europe/Amsterdam:20251128T223000
DTSTAMP:20260421T175932
CREATED:20251031T120038Z
LAST-MODIFIED:20251123T170151Z
UID:10001297-1764360000-1764369000@www.dorpsraad-swartbroek.nl
SUMMARY:Buut Culinair
DESCRIPTION:Buut\, spijs en vertier. \nMet buutreedners: Berry Knapen\, Erik Mulder\, Erik Reck\, Fer Naus\, Jamie Ogier\, Joep de Wildt en DJ Sil \nPrijs: €35\,- (Incl. Luxe Borrelplank en 3 consumpties) \nKaartjes te koop bij eetcade Bi-j Sanne
URL:https://www.dorpsraad-swartbroek.nl/activiteit/buut-culinair/2025-11-28/
LOCATION:MFA de Corneel\, Ittervoorterweg 101A\, Swartbroek\, Limburg\, 6005 NP\, Nederland
CATEGORIES:Carnaval,Ontspanning
ATTACH;FMTTYPE=image/jpeg:https://www.dorpsraad-swartbroek.nl/wp-content/uploads/2025/10/Buut-Culinair.jpg
ORGANIZER;CN="Spoe%C3%ABkejaegers":MAILTO:info@spoeekejaegers.nl
END:VEVENT
BEGIN:VEVENT
DTSTART;TZID=Europe/Amsterdam:20251128T143000
DTEND;TZID=Europe/Amsterdam:20251128T170000
DTSTAMP:20260421T175932
CREATED:20251031T120707Z
LAST-MODIFIED:20251106T075913Z
UID:10001299-1764340200-1764349200@www.dorpsraad-swartbroek.nl
SUMMARY:Sinterklaasfeest 2025
DESCRIPTION:Lieve kinderen en ouders/verzorgers\,\nOp vrijdagmiddag 28 november 2025 organiseren we weer een gezellig Sinterklaasfeest! Net als voorgaande jaren belooft het een fantastische middag te worden in Swartbroek\, gevuld met gezelligheid\, heerlijke lekkernijen en natuurlijk een speciaal bezoek van niemand minder dan Sinterklaas zelf!
URL:https://www.dorpsraad-swartbroek.nl/activiteit/sinterklaasfeest-2025/
LOCATION:Basisschool Swartbroek\, Bertiliastraat 1\, Weert\, Limburg\, 6005 PA\, Nederland
CATEGORIES:Culturele Evenementen,Ontspanning
ATTACH;FMTTYPE=image/jpeg:https://www.dorpsraad-swartbroek.nl/wp-content/uploads/2025/09/Dorpsraad-Online-Sinterklaas-04-S.jpg
END:VEVENT
BEGIN:VEVENT
DTSTART;TZID=Europe/Amsterdam:20251121T200000
DTEND;TZID=Europe/Amsterdam:20251121T223000
DTSTAMP:20260421T175932
CREATED:20251031T104816Z
LAST-MODIFIED:20251031T111138Z
UID:10001275-1763755200-1763764200@www.dorpsraad-swartbroek.nl
SUMMARY:Kaartavond RKSVV
DESCRIPTION:Ook dit jaar organiseert RKSVV i.s.m. schutterij St.Cornelius weer 10 kaartavonden ( kruisjassen ) op de vrijdagavond die altijd om 20.00uur beginnen. \nEr zijn mooie dagprijzen te winnen en ook zijn er na de 10 kaartavonden eindprijzen te winnen waarvoor de 7 hoogste scores tellen. \nZegt het voort want hoe meer zielen hoe meer vreugde.
URL:https://www.dorpsraad-swartbroek.nl/activiteit/kaartavond-rksvv/2025-11-21/
LOCATION:RKSVV\, Eutropiastraat 3\, Swartbroek\, 6005 PE\, Nederland
CATEGORIES:Ontspanning
ATTACH;FMTTYPE=image/jpeg:https://www.dorpsraad-swartbroek.nl/wp-content/uploads/2025/10/Speelkaarten-scaled.jpg
ORGANIZER;CN="RKSVV":MAILTO:info@rksvv.nl
END:VEVENT
BEGIN:VEVENT
DTSTART;TZID=Europe/Amsterdam:20251120T200000
DTEND;TZID=Europe/Amsterdam:20251120T220000
DTSTAMP:20260421T175932
CREATED:20251031T115038Z
LAST-MODIFIED:20251106T075913Z
UID:10001289-1763668800-1763676000@www.dorpsraad-swartbroek.nl
SUMMARY:Activiteit VVS
DESCRIPTION:
URL:https://www.dorpsraad-swartbroek.nl/activiteit/activiteit-vvs/2025-11-20/
LOCATION:MFA de Corneel\, Ittervoorterweg 101A\, Swartbroek\, Limburg\, 6005 NP\, Nederland
CATEGORIES:Ontspanning
ORGANIZER;CN="Vrouwenvereniging VVS":MAILTO:wjm.koonen@planet.nl
END:VEVENT
BEGIN:VEVENT
DTSTART;TZID=Europe/Amsterdam:20251114T193000
DTEND;TZID=Europe/Amsterdam:20251114T210000
DTSTAMP:20260421T175932
CREATED:20251031T113915Z
LAST-MODIFIED:20251123T170304Z
UID:10001286-1763148600-1763154000@www.dorpsraad-swartbroek.nl
SUMMARY:Loting Jeugdprinsenpaar 2025
DESCRIPTION:
URL:https://www.dorpsraad-swartbroek.nl/activiteit/loting-jeugdprinsenpaar-2025/
LOCATION:Bî-j Sanne\, Ittervoorterweg 101\, Weert\, 6005 NP\, Nederland
CATEGORIES:Carnaval
ATTACH;FMTTYPE=image/jpeg:https://www.dorpsraad-swartbroek.nl/wp-content/uploads/2025/10/Uitroepen-jeugdprinsepaar-2025-min-scaled.jpg
ORGANIZER;CN="Spoe%C3%ABkejaegers":MAILTO:info@spoeekejaegers.nl
END:VEVENT
BEGIN:VEVENT
DTSTART;TZID=Europe/Amsterdam:20251108T200000
DTEND;TZID=Europe/Amsterdam:20251108T220000
DTSTAMP:20260421T175932
CREATED:20251031T115038Z
LAST-MODIFIED:20251106T075913Z
UID:10001288-1762632000-1762639200@www.dorpsraad-swartbroek.nl
SUMMARY:Activiteit VVS
DESCRIPTION:
URL:https://www.dorpsraad-swartbroek.nl/activiteit/activiteit-vvs/2025-11-08/
LOCATION:MFA de Corneel\, Ittervoorterweg 101A\, Swartbroek\, Limburg\, 6005 NP\, Nederland
CATEGORIES:Ontspanning
ORGANIZER;CN="Vrouwenvereniging VVS":MAILTO:wjm.koonen@planet.nl
END:VEVENT
BEGIN:VEVENT
DTSTART;TZID=Europe/Amsterdam:20251108T180000
DTEND;TZID=Europe/Amsterdam:20251108T210000
DTSTAMP:20260421T175932
CREATED:20251031T113606Z
LAST-MODIFIED:20251106T075913Z
UID:10001285-1762624800-1762635600@www.dorpsraad-swartbroek.nl
SUMMARY:Sint Maarten Tocht en Vuur
DESCRIPTION:We gaan Sint Maarten vieren. We gaan dan met de schutterij en Sint Maarten voorop in optocht naar de Sint Maartenshoop aan de Wolfsvenweg. Neem ook je lampion mee! Indien het wat ver lopen is voor de kortere benen is het wellicht handig om een bolderwagen of buggy mee te nemen (terrrein zelf is hier niet voor geschikt). Bij de hoop aangekomen zal Sint Maarten zijn verhaal vertellen en de hoop aansteken. Voor de kinderen is er dan een gratis warme chocomel en een wafel. Volwassen kunnen warme chocomel\, koffie en glühwein kopen\, evenals wafels (per stuk of verpakt).
URL:https://www.dorpsraad-swartbroek.nl/activiteit/sint-maarten-tocht-en-vuur/
LOCATION:Wolfsvenweg\, Wolfsvenweg\, Weert\, Limburg\, 6005NS\, Nederland
CATEGORIES:Culturele Evenementen,Ontspanning
ATTACH;FMTTYPE=image/jpeg:https://www.dorpsraad-swartbroek.nl/wp-content/uploads/2025/09/Dorpsraad-Online-Sint-Maarten-02-S.jpg
END:VEVENT
BEGIN:VEVENT
DTSTART;TZID=Europe/Amsterdam:20251107T200000
DTEND;TZID=Europe/Amsterdam:20251107T223000
DTSTAMP:20260421T175932
CREATED:20251031T104816Z
LAST-MODIFIED:20251031T111138Z
UID:10001274-1762545600-1762554600@www.dorpsraad-swartbroek.nl
SUMMARY:Kaartavond RKSVV
DESCRIPTION:Ook dit jaar organiseert RKSVV i.s.m. schutterij St.Cornelius weer 10 kaartavonden ( kruisjassen ) op de vrijdagavond die altijd om 20.00uur beginnen. \nEr zijn mooie dagprijzen te winnen en ook zijn er na de 10 kaartavonden eindprijzen te winnen waarvoor de 7 hoogste scores tellen. \nZegt het voort want hoe meer zielen hoe meer vreugde.
URL:https://www.dorpsraad-swartbroek.nl/activiteit/kaartavond-rksvv/2025-11-07/
LOCATION:RKSVV\, Eutropiastraat 3\, Swartbroek\, 6005 PE\, Nederland
CATEGORIES:Ontspanning
ATTACH;FMTTYPE=image/jpeg:https://www.dorpsraad-swartbroek.nl/wp-content/uploads/2025/10/Speelkaarten-scaled.jpg
ORGANIZER;CN="RKSVV":MAILTO:info@rksvv.nl
END:VEVENT
BEGIN:VEVENT
DTSTART;TZID=Europe/Amsterdam:20251106T080000
DTEND;TZID=Europe/Amsterdam:20251106T170000
DTSTAMP:20260421T175932
CREATED:20251031T115038Z
LAST-MODIFIED:20251106T075913Z
UID:10001287-1762416000-1762448400@www.dorpsraad-swartbroek.nl
SUMMARY:Activiteit VVS
DESCRIPTION:
URL:https://www.dorpsraad-swartbroek.nl/activiteit/activiteit-vvs/2025-11-06/
LOCATION:MFA de Corneel\, Ittervoorterweg 101A\, Swartbroek\, Limburg\, 6005 NP\, Nederland
CATEGORIES:Ontspanning
ORGANIZER;CN="Vrouwenvereniging VVS":MAILTO:wjm.koonen@planet.nl
END:VEVENT
BEGIN:VEVENT
DTSTART;TZID=Europe/Amsterdam:20251105T143000
DTEND;TZID=Europe/Amsterdam:20251105T170000
DTSTAMP:20260421T175932
CREATED:20251031T111707Z
LAST-MODIFIED:20251106T075913Z
UID:10001284-1762353000-1762362000@www.dorpsraad-swartbroek.nl
SUMMARY:Sint Maarten - Pompoen uithollen of Versieren
DESCRIPTION:Geheel volgens traditie kunnen de kinderen op woensdag voor de Sint Maarten viering een pompoen uithollen of met bloemen versieren. Wij zorgen voor het materiaal. De eigen bijdrage hiervoor is €2\,-. Dit is inclusierf pompoen\, materiaal en limonade met een koekjes. Zelf een lichtje mee nemen voor in de pompoen\, liefst op batterij. De pompoen komt bij de Sint Maarten hoop te staan waar iedereen hem kan bewonderen en je hem\, wanneer je weer naar huis gaat\, mee kunt nemen. Hulp van papa\, mama\, opa of oma op woensdag is welkom.
URL:https://www.dorpsraad-swartbroek.nl/activiteit/sint-maarten-pompoen-uithollen-of-versieren/
LOCATION:Familie van Aarle\, Coolenstraat 18\, Weert\, Limburg\, 6005NZ\, Nederland
CATEGORIES:Ontspanning
ATTACH;FMTTYPE=image/jpeg:https://www.dorpsraad-swartbroek.nl/wp-content/uploads/2025/09/Dorpsraad-Online-Pompoenen-S.jpg
END:VEVENT
BEGIN:VEVENT
DTSTART;TZID=Europe/Amsterdam:20251104T083000
DTEND;TZID=Europe/Amsterdam:20251104T110000
DTSTAMP:20260421T175932
CREATED:20251031T110127Z
LAST-MODIFIED:20251106T075913Z
UID:10001283-1762245000-1762254000@www.dorpsraad-swartbroek.nl
SUMMARY:School in Bedrijf
DESCRIPTION:Basisschool Swartbroek groeit! Ervaar de sfeer en ontdk onze manier van werken tijdens School in Bedrijf\, iedereen is van harte welkom.
URL:https://www.dorpsraad-swartbroek.nl/activiteit/school-in-bedrijf/
LOCATION:Basisschool Swartbroek\, Bertiliastraat 1\, Weert\, Limburg\, 6005 PA\, Nederland
CATEGORIES:Ontspanning
ATTACH;FMTTYPE=image/png:https://www.dorpsraad-swartbroek.nl/wp-content/uploads/2025/09/Basisschool-Swartbroek.png
ORGANIZER;CN="Basisschool Swartbroek":MAILTO:l.smolenaers@meerderweert.nl
END:VEVENT
BEGIN:VEVENT
DTSTART;TZID=Europe/Amsterdam:20251102T110000
DTEND;TZID=Europe/Amsterdam:20251102T150000
DTSTAMP:20260421T175932
CREATED:20251028T135154Z
LAST-MODIFIED:20251106T075913Z
UID:10001268-1762081200-1762095600@www.dorpsraad-swartbroek.nl
SUMMARY:Carnavalsmarkt 2025
DESCRIPTION:Beste dorpsgenoten\, \n\nOp zondag 2 november 2025 is er bij Bî-j Sanne een carnavalsmarkt van 11.00 tot 15.00 uur. Er zullen enkele bedrijven benaderd worden om carnavals gerelateerde spullen te verkopen. Ook is het voor dorpsgenoten mogelijk om een kraam of tafel te huren voor €5\,00 om tweedehands carnavalskleding en carnavalsaccessoires te verkopen. \nHeb je interesse om op de carnavalsmarkt te staan? Stuur dan een mailtje naar: l.tlbovendeerdt@hotmail.com. \nDenk jij: “Dit bedrijfje mag niet ontbreken op de markt”\, of heb je vragen? Stuur dan ook gerust een mail naar bovenstaand e-mailadres.
URL:https://www.dorpsraad-swartbroek.nl/activiteit/carnavalsmarkt-2025/
LOCATION:Bî-j Sanne\, Ittervoorterweg 101\, Weert\, 6005 NP\, Nederland
CATEGORIES:Carnaval
ATTACH;FMTTYPE=image/jpeg:https://www.dorpsraad-swartbroek.nl/wp-content/uploads/2024/01/Dorpsraad-Carnaval-Confetti.jpg
END:VEVENT
BEGIN:VEVENT
DTSTART;TZID=Europe/Amsterdam:20251031T200000
DTEND;TZID=Europe/Amsterdam:20251031T223000
DTSTAMP:20260421T175932
CREATED:20251031T104816Z
LAST-MODIFIED:20251031T111138Z
UID:10001273-1761940800-1761949800@www.dorpsraad-swartbroek.nl
SUMMARY:Kaartavond RKSVV
DESCRIPTION:Ook dit jaar organiseert RKSVV i.s.m. schutterij St.Cornelius weer 10 kaartavonden ( kruisjassen ) op de vrijdagavond die altijd om 20.00uur beginnen. \nEr zijn mooie dagprijzen te winnen en ook zijn er na de 10 kaartavonden eindprijzen te winnen waarvoor de 7 hoogste scores tellen. \nZegt het voort want hoe meer zielen hoe meer vreugde.
URL:https://www.dorpsraad-swartbroek.nl/activiteit/kaartavond-rksvv/2025-10-31/
LOCATION:RKSVV\, Eutropiastraat 3\, Swartbroek\, 6005 PE\, Nederland
CATEGORIES:Ontspanning
ATTACH;FMTTYPE=image/jpeg:https://www.dorpsraad-swartbroek.nl/wp-content/uploads/2025/10/Speelkaarten-scaled.jpg
ORGANIZER;CN="RKSVV":MAILTO:info@rksvv.nl
END:VEVENT
BEGIN:VEVENT
DTSTART;TZID=Europe/Amsterdam:20251031T183000
DTEND;TZID=Europe/Amsterdam:20251031T203000
DTSTAMP:20260421T175932
CREATED:20251030T093539Z
LAST-MODIFIED:20251030T093539Z
UID:10001270-1761935400-1761942600@www.dorpsraad-swartbroek.nl
SUMMARY:Trick or Treat - 2025
DESCRIPTION:Wil je meedoen? Geef je op door een email te sturen naar: heefie88@hotmail.com of dpaspont@gmail.com. Vergeet je snoepemmer of zak niet mee te nemen!
URL:https://www.dorpsraad-swartbroek.nl/activiteit/trick-or-treat-2025/
LOCATION:Huis aan Huis\, Nederland
CATEGORIES:Culturele Evenementen
ATTACH;FMTTYPE=image/jpeg:https://www.dorpsraad-swartbroek.nl/wp-content/uploads/2025/09/Dorpsraad-Online-Sint-Maarten-01-S.jpg
ORGANIZER;CN="Dorpsraad Swartbroek":MAILTO:info@dorpsraad-swartbroek.nl
END:VEVENT
END:VCALENDAR